BEGIN:VCALENDAR
VERSION:2.0
PRODID:icalendar-ruby
CALSCALE:GREGORIAN
METHOD:PUBLISH
BEGIN:VEVENT
DTSTAMP:20260424T000255Z
UID:5-705887@harvestchurchminden.org
DTSTART:20260816T153000Z
DTEND:20260816T163000Z
CLASS:PUBLIC
CREATED:20260423T185639
DESCRIPTION:Sunday Worship
LAST-MODIFIED:20260423T185639
LOCATION:
SUMMARY:Sunday Worship
URL;VALUE=URI:https://www.harvestchurchminden.org/events/sunday-worship/202
 6-08-16
END:VEVENT
END:VCALENDAR
