BEGIN:VCALENDAR
VERSION:2.0
PRODID:icalendar-ruby
CALSCALE:GREGORIAN
METHOD:PUBLISH
BEGIN:VEVENT
DTSTAMP:20260424T062504Z
UID:5-706380@harvestchurchminden.org
DTSTART:20260913T153000Z
DTEND:20260913T163000Z
CLASS:PUBLIC
CREATED:20260423T215109
DESCRIPTION:Sunday Worship
LAST-MODIFIED:20260423T215109
LOCATION:
SUMMARY:Sunday Worship
URL;VALUE=URI:https://www.harvestchurchminden.org/events/sunday-worship/202
 6-09-13
END:VEVENT
END:VCALENDAR
