BEGIN:VCALENDAR
VERSION:2.0
PRODID:icalendar-ruby
CALSCALE:GREGORIAN
METHOD:PUBLISH
BEGIN:VEVENT
DTSTAMP:20260424T125922Z
UID:5-706873@harvestchurchminden.org
DTSTART:20261011T153000Z
DTEND:20261011T163000Z
CLASS:PUBLIC
CREATED:20260424T071924
DESCRIPTION:Sunday Worship
LAST-MODIFIED:20260424T071924
LOCATION:
SUMMARY:Sunday Worship
URL;VALUE=URI:https://www.harvestchurchminden.org/events/sunday-worship/202
 6-10-11
END:VEVENT
END:VCALENDAR
