BEGIN:VCALENDAR
VERSION:2.0
PRODID:icalendar-ruby
CALSCALE:GREGORIAN
METHOD:PUBLISH
BEGIN:VEVENT
DTSTAMP:20260424T161207Z
UID:5-707364@harvestchurchminden.org
DTSTART:20261025T153000Z
DTEND:20261025T163000Z
CLASS:PUBLIC
CREATED:20260424T101214
DESCRIPTION:Sunday Worship
LAST-MODIFIED:20260424T101214
LOCATION:
SUMMARY:Sunday Worship
URL;VALUE=URI:https://www.harvestchurchminden.org/events/sunday-worship/202
 6-10-25
END:VEVENT
END:VCALENDAR
