BEGIN:VCALENDAR
VERSION:2.0
PRODID:icalendar-ruby
CALSCALE:GREGORIAN
METHOD:PUBLISH
BEGIN:VEVENT
DTSTAMP:20260424T174324Z
UID:5-707365@harvestchurchminden.org
DTSTART:20261101T163000Z
DTEND:20261101T173000Z
CLASS:PUBLIC
CREATED:20260424T101214
DESCRIPTION:Sunday Worship
LAST-MODIFIED:20260424T101214
LOCATION:
SUMMARY:Sunday Worship
URL;VALUE=URI:https://www.harvestchurchminden.org/events/sunday-worship/202
 6-11-01
END:VEVENT
END:VCALENDAR
